BEGIN:VCALENDAR
VERSION:2.0
PRODID:-//Mindil Beach Casino Resort - ECPv6.15.20//NONSGML v1.0//EN
CALSCALE:GREGORIAN
METHOD:PUBLISH
X-ORIGINAL-URL:https://www.mindilbeachcasinoresort.com.au
X-WR-CALDESC:Events for Mindil Beach Casino Resort
REFRESH-INTERVAL;VALUE=DURATION:PT1H
X-Robots-Tag:noindex
X-PUBLISHED-TTL:PT1H
BEGIN:VTIMEZONE
TZID:Australia/Darwin
BEGIN:STANDARD
TZOFFSETFROM:+0930
TZOFFSETTO:+0930
TZNAME:ACST
DTSTART:20250101T000000
END:STANDARD
END:VTIMEZONE
BEGIN:VEVENT
DTSTART;VALUE=DATE:20260425
DTEND;VALUE=DATE:20260426
DTSTAMP:20260423T182513
CREATED:20260114T193635Z
LAST-MODIFIED:20260126T211706Z
UID:10004718-1777075200-1777161599@www.mindilbeachcasinoresort.com.au
SUMMARY:NT Keno 20/20
DESCRIPTION:Every Saturday \n\nSpend $20 or more on a single NT KENO ticket & redeem $20 Xtra Credit! \nExclusive to Lucky North® Club members. Limited to one single ticket transaction\, per member. Please gamble responsibly. Terms and conditions apply. Permit number TLP1194.
URL:https://www.mindilbeachcasinoresort.com.au/event/nt-keno-20-20/2026-04-25/
CATEGORIES:Casino
ATTACH;FMTTYPE=image/jpeg:https://www.mindilbeachcasinoresort.com.au/wp-content/uploads/2026/01/Keno-2020.jpg
END:VEVENT
BEGIN:VEVENT
DTSTART;TZID=Australia/Darwin:20260425T180000
DTEND;TZID=Australia/Darwin:20260425T220000
DTSTAMP:20260423T182513
CREATED:20260307T223042Z
LAST-MODIFIED:20260304T040849Z
UID:10005417-1777140000-1777154400@www.mindilbeachcasinoresort.com.au
SUMMARY:Show Me The Money
DESCRIPTION:From 14 March to 26 April \nReveal all 6 face cards on the game board for your chance to win! \nTake home $10\,000 each draw!\n  \nSaturdays\nFrom 6pm – 10pm \nSundays\nFrom 3pm – 7pm \nRedeem your FREE entry at a kiosk*\nPLUS\n100 Points = 1  Additional Entry \nSimply present your membership card every time you Play or Dine to get your Points. \nYou must be 18 years or over to enter the casino. Please gamble and drink responsibly. Exclusive to Diamond & Black Diamond members. *100 Points = 1 Entry. Terms and conditions apply.
URL:https://www.mindilbeachcasinoresort.com.au/event/show-me-the-money/2026-04-25/
CATEGORIES:Casino
ATTACH;FMTTYPE=image/jpeg:https://www.mindilbeachcasinoresort.com.au/wp-content/uploads/2026/02/DEL389-SMTM-Webtile-300x250px-FA.jpg
END:VEVENT
END:VCALENDAR